BEGIN:VCALENDAR
VERSION:2.0
PRODID:-//hacksw/handcal//NONSGML v1.0//EN
BEGIN:VEVENT
SUMMARY:Open de France
UID:09110706-49a9-443f-bbc5-e3aacfa18188
DTSTART:20260710T220000Z
DTEND:20260712T220000Z
LOCATION:Localisation   Blois
CATEGORIES:Sportif
STATUS:
URL;VALUE=URI:https://www.escomissillacpontchateau.com/evenements/2026/07/11/open-de-france-2403089
END:VEVENT
END:VCALENDAR
